BEGIN:VCALENDAR
VERSION:2.0
PRODID:-//wp-events-plugin.com//7.2.3.1//EN
TZID:America/Chicago
X-WR-TIMEZONE:America/Chicago
BEGIN:VEVENT
UID:0-246@belvidereil.gov
DTSTART;TZID=America/Chicago:20251009T073000
DTEND;TZID=America/Chicago:20251009T073000
DTSTAMP:20251003T180742Z
URL:https://www.belvidereil.gov/events/belvidere-fire-dept-2-foreign-fire-
 insurance-fund-meeting/
SUMMARY:Belvidere Fire Dept 2% Foreign Fire Insurance Fund Meeting
DESCRIPTION:10 09 25 2% BFD Meeting
END:VEVENT
BEGIN:VTIMEZONE
TZID:America/Chicago
X-LIC-LOCATION:America/Chicago
BEGIN:DAYLIGHT
DTSTART:20250309T030000
TZOFFSETFROM:-0600
TZOFFSETTO:-0500
TZNAME:CDT
END:DAYLIGHT
END:VTIMEZONE
END:VCALENDAR