BEGIN:VCALENDAR
VERSION:2.0
PRODID:-//wp-events-plugin.com//7.2.3.1//EN
TZID:America/Chicago
X-WR-TIMEZONE:America/Chicago
BEGIN:VEVENT
UID:0-259@belvidereil.gov
DTSTART;TZID=America/Chicago:20251113T080000
DTEND;TZID=America/Chicago:20251113T080000
DTSTAMP:20251110T222140Z
URL:https://www.belvidereil.gov/events/belvidere-firefighters-pension-fund
 -board-of-trustees-meeting-2/
SUMMARY:Belvidere Firefighters' Pension Fund Board of Trustees Meeting
DESCRIPTION:Meeting Notice 11 10 25
LOCATION:Belvidere Fire Station #1\, 123 South State Street\, Belvidere\, I
 L\, 61008\, United States
X-APPLE-STRUCTURED-LOCATION;VALUE=URI;X-ADDRESS=123 South State Street\, Be
 lvidere\, IL\, 61008\, United States;X-APPLE-RADIUS=100;X-TITLE=Belvidere 
 Fire Station #1:geo:0,0
END:VEVENT
BEGIN:VTIMEZONE
TZID:America/Chicago
X-LIC-LOCATION:America/Chicago
BEGIN:STANDARD
DTSTART:20251102T010000
TZOFFSETFROM:-0500
TZOFFSETTO:-0600
TZNAME:CST
END:STANDARD
END:VTIMEZONE
END:VCALENDAR