BEGIN:VCALENDAR
VERSION:2.0
PRODID:-//wp-events-plugin.com//7.2.3.1//EN
TZID:America/Chicago
X-WR-TIMEZONE:America/Chicago
BEGIN:VEVENT
UID:0-220@belvidereil.gov
DTSTART;TZID=America/Chicago:20250717T073000
DTEND;TZID=America/Chicago:20250717T073000
DTSTAMP:20250711T142209Z
URL:https://www.belvidereil.gov/events/bfd-2-fund-meeting/
SUMMARY:BFD 2% FUND MEETING
DESCRIPTION:Meeting Notice 7 11 25
END:VEVENT
BEGIN:VTIMEZONE
TZID:America/Chicago
X-LIC-LOCATION:America/Chicago
BEGIN:DAYLIGHT
DTSTART:20250309T030000
TZOFFSETFROM:-0600
TZOFFSETTO:-0500
TZNAME:CDT
END:DAYLIGHT
END:VTIMEZONE
END:VCALENDAR