BEGIN:VCALENDAR
VERSION:2.0
PRODID:-//wp-events-plugin.com//7.2.3.1//EN
TZID:America/Chicago
X-WR-TIMEZONE:America/Chicago
BEGIN:VEVENT
UID:0-267@belvidereil.gov
DTSTART;TZID=America/Chicago:20251208T000000
DTEND;TZID=America/Chicago:20251208T235900
DTSTAMP:20251205T143317Z
URL:https://www.belvidereil.gov/events/committee-of-the-whole-meeting-canc
 elled/
SUMMARY:Committee of the Whole Meeting-- CANCELLED
DESCRIPTION:
END:VEVENT
BEGIN:VTIMEZONE
TZID:America/Chicago
X-LIC-LOCATION:America/Chicago
BEGIN:STANDARD
DTSTART:20251102T010000
TZOFFSETFROM:-0500
TZOFFSETTO:-0600
TZNAME:CST
END:STANDARD
END:VTIMEZONE
END:VCALENDAR