BEGIN:VCALENDAR
VERSION:2.0
PRODID:-//wp-events-plugin.com//7.2.3.1//EN
TZID:America/Chicago
X-WR-TIMEZONE:America/Chicago
BEGIN:VEVENT
UID:0-262@belvidereil.gov
DTSTART;TZID=America/Chicago;VALUE=DATE:20251128
DTEND;TZID=America/Chicago;VALUE=DATE:20251129
DTSTAMP:20251113T224651Z
URL:https://www.belvidereil.gov/events/day-after-thanksgiving-city-hall-cl
 osed-2/
SUMMARY:Day After Thanksgiving-- City Hall Closed
DESCRIPTION:
END:VEVENT
BEGIN:VTIMEZONE
TZID:America/Chicago
X-LIC-LOCATION:America/Chicago
BEGIN:STANDARD
DTSTART:20251102T010000
TZOFFSETFROM:-0500
TZOFFSETTO:-0600
TZNAME:CST
END:STANDARD
END:VTIMEZONE
END:VCALENDAR