BEGIN:VCALENDAR
VERSION:2.0
PRODID:-//wp-events-plugin.com//7.2.3.1//EN
TZID:America/Chicago
X-WR-TIMEZONE:America/Chicago
BEGIN:VEVENT
UID:0-13@belvidereil.gov
DTSTART;TZID=America/Chicago:20231031T160000
DTEND;TZID=America/Chicago:20231031T200000
DTSTAMP:20231014T172504Z
URL:https://www.belvidereil.gov/events/halloween-city-of-belvidere-trick-o
 r-treat/
SUMMARY:Halloween - City of Belvidere Trick or Treat Times
DESCRIPTION:Halloween - City of Belvidere Trick or Treat Times:\n\n4:00p.m.
  to 8:00p.m.
END:VEVENT
BEGIN:VTIMEZONE
TZID:America/Chicago
X-LIC-LOCATION:America/Chicago
BEGIN:DAYLIGHT
DTSTART:20230312T030000
TZOFFSETFROM:-0600
TZOFFSETTO:-0500
TZNAME:CDT
END:DAYLIGHT
END:VTIMEZONE
END:VCALENDAR