BEGIN:VCALENDAR
VERSION:2.0
PRODID:-//wp-events-plugin.com//7.2.3.1//EN
TZID:America/Chicago
X-WR-TIMEZONE:America/Chicago
BEGIN:VEVENT
UID:0-230@belvidereil.gov
DTSTART;TZID=America/Chicago:20250819T170000
DTEND;TZID=America/Chicago:20250819T170000
DTSTAMP:20250815T144323Z
URL:https://www.belvidereil.gov/events/special-meeting-of-the-fire-police-
 commission-5/
SUMMARY:Special Meeting of the Fire &amp\; Police Commission
DESCRIPTION:Special F&amp\;P Meeting Agenda 08 19 25
END:VEVENT
BEGIN:VTIMEZONE
TZID:America/Chicago
X-LIC-LOCATION:America/Chicago
BEGIN:DAYLIGHT
DTSTART:20250309T030000
TZOFFSETFROM:-0600
TZOFFSETTO:-0500
TZNAME:CDT
END:DAYLIGHT
END:VTIMEZONE
END:VCALENDAR