BEGIN:VCALENDAR
VERSION:2.0
PRODID:-//wp-events-plugin.com//7.2.3.1//EN
TZID:America/Chicago
X-WR-TIMEZONE:America/Chicago
BEGIN:VEVENT
UID:0-266@belvidereil.gov
DTSTART;TZID=America/Chicago:20251204T170000
DTEND;TZID=America/Chicago:20251204T170000
DTSTAMP:20251202T022528Z
URL:https://www.belvidereil.gov/events/special-meeting-of-the-fire-police-
 commission-7/
SUMMARY:Special Meeting of the Fire &amp\; Police Commission
DESCRIPTION:Special F&amp\;P Meeting Agenda 12 04 25
END:VEVENT
BEGIN:VTIMEZONE
TZID:America/Chicago
X-LIC-LOCATION:America/Chicago
BEGIN:STANDARD
DTSTART:20251102T010000
TZOFFSETFROM:-0500
TZOFFSETTO:-0600
TZNAME:CST
END:STANDARD
END:VTIMEZONE
END:VCALENDAR